BEGIN:VCALENDAR
VERSION:2.0
PRODID:-//The Anglican Adam Preaching Society  - ECPv6.14.2//NONSGML v1.0//EN
CALSCALE:GREGORIAN
METHOD:PUBLISH
X-ORIGINAL-URL:https://aaps.org.ng
X-WR-CALDESC:Events for The Anglican Adam Preaching Society 
REFRESH-INTERVAL;VALUE=DURATION:PT1H
X-Robots-Tag:noindex
X-PUBLISHED-TTL:PT1H
BEGIN:VTIMEZONE
TZID:UTC
BEGIN:STANDARD
TZOFFSETFROM:+0000
TZOFFSETTO:+0000
TZNAME:UTC
DTSTART:20250101T000000
END:STANDARD
END:VTIMEZONE
BEGIN:VEVENT
DTSTART;TZID=UTC:20250822T080000
DTEND;TZID=UTC:20250822T170000
DTSTAMP:20260422T113134
CREATED:20250809T220850Z
LAST-MODIFIED:20250813T103049Z
UID:1896-1755849600-1755882000@aaps.org.ng
SUMMARY:KOKORI National Crusade
DESCRIPTION:Theme: Repentance
URL:https://aaps.org.ng/event/kokori-national-crusade/
LOCATION:Oziegbe Primary School\, Kokori Town\, Delta State.\, Kokori\, Delta State\, Nigeria
ATTACH;FMTTYPE=image/jpeg:https://aaps.org.ng/wp-content/uploads/2025/08/WhatsApp-Image-2025-08-13-at-9.22.33-AM.jpeg
END:VEVENT
END:VCALENDAR